BEGIN:VCALENDAR
VERSION:2.0
PRODID:-//TuS Marialinden 1946 e.V. - ECPv6.9.0//NONSGML v1.0//EN
CALSCALE:GREGORIAN
METHOD:PUBLISH
X-ORIGINAL-URL:https://tusmarialinden.de
X-WR-CALDESC:Veranstaltungen für TuS Marialinden 1946 e.V.
REFRESH-INTERVAL;VALUE=DURATION:PT1H
X-Robots-Tag:noindex
X-PUBLISHED-TTL:PT1H
BEGIN:VTIMEZONE
TZID:UTC
BEGIN:STANDARD
TZOFFSETFROM:+0000
TZOFFSETTO:+0000
TZNAME:UTC
DTSTART:20180101T000000
END:STANDARD
END:VTIMEZONE
BEGIN:VEVENT
DTSTART;TZID=UTC:20181110T183000
DTEND;TZID=UTC:20181110T213000
DTSTAMP:20260423T070737
CREATED:20180827T085304Z
LAST-MODIFIED:20180827T085304Z
UID:2867-1541874600-1541885400@tusmarialinden.de
SUMMARY:TT: TuS Marialinden II - TTC Bärbroich V
DESCRIPTION:
URL:https://tusmarialinden.de/termine/tt-tus-marialinden-ii-ttc-baerbroich-v/
LOCATION:Sporthalle Marialinden Oderscheiderfeld 20\, 51491 Overath\, Oderscheiderfeld 20\, 51491\, NRW\, 51491\, Deutschland
CATEGORIES:Tischtennis
END:VEVENT
BEGIN:VEVENT
DTSTART;TZID=UTC:20181110T183000
DTEND;TZID=UTC:20181110T213000
DTSTAMP:20260423T070737
CREATED:20180827T091140Z
LAST-MODIFIED:20180827T091140Z
UID:2886-1541874600-1541885400@tusmarialinden.de
SUMMARY:TT: TuS Marialinden I - TTVg Phönix Biesfeld IV
DESCRIPTION:
URL:https://tusmarialinden.de/termine/tt-tus-marialinden-i-ttvg-phoenix-biesfeld-iv/
LOCATION:Sporthalle Marialinden Oderscheiderfeld 20\, 51491 Overath\, Oderscheiderfeld 20\, 51491\, NRW\, 51491\, Deutschland
CATEGORIES:Tischtennis
END:VEVENT
END:VCALENDAR