BEGIN:VCALENDAR
VERSION:2.0
PRODID:-//TuS Marialinden 1946 e.V. - ECPv6.9.0//NONSGML v1.0//EN
CALSCALE:GREGORIAN
METHOD:PUBLISH
X-ORIGINAL-URL:https://tusmarialinden.de
X-WR-CALDESC:Veranstaltungen für TuS Marialinden 1946 e.V.
REFRESH-INTERVAL;VALUE=DURATION:PT1H
X-Robots-Tag:noindex
X-PUBLISHED-TTL:PT1H
BEGIN:VTIMEZONE
TZID:UTC
BEGIN:STANDARD
TZOFFSETFROM:+0000
TZOFFSETTO:+0000
TZNAME:UTC
DTSTART:20180101T000000
END:STANDARD
END:VTIMEZONE
BEGIN:VEVENT
DTSTART;TZID=UTC:20181124T183000
DTEND;TZID=UTC:20181124T213000
DTSTAMP:20260423T040220
CREATED:20180827T085626Z
LAST-MODIFIED:20180827T085626Z
UID:2871-1543084200-1543095000@tusmarialinden.de
SUMMARY:TT: TuS Marialinden II - TuS Immekeppel II
DESCRIPTION:
URL:https://tusmarialinden.de/termine/tt-tus-marialinden-ii-tus-immekeppel-ii/
LOCATION:Sporthalle Marialinden Oderscheiderfeld 20\, 51491 Overath\, Oderscheiderfeld 20\, 51491\, NRW\, 51491\, Deutschland
CATEGORIES:Tischtennis
END:VEVENT
BEGIN:VEVENT
DTSTART;TZID=UTC:20181124T183000
DTEND;TZID=UTC:20181124T213000
DTSTAMP:20260423T040220
CREATED:20180827T091517Z
LAST-MODIFIED:20180827T091517Z
UID:2891-1543084200-1543095000@tusmarialinden.de
SUMMARY:TT: TuS Marialinden - SV Frielingsdorf II
DESCRIPTION:
URL:https://tusmarialinden.de/termine/tt-tus-marialinden-sv-frielingsdorf-ii/
LOCATION:Sporthalle Marialinden Oderscheiderfeld 20\, 51491 Overath\, Oderscheiderfeld 20\, 51491\, NRW\, 51491\, Deutschland
CATEGORIES:Tischtennis
END:VEVENT
END:VCALENDAR