BEGIN:VCALENDAR
VERSION:2.0
PRODID:-//TuS Marialinden 1946 e.V. - ECPv6.9.0//NONSGML v1.0//EN
CALSCALE:GREGORIAN
METHOD:PUBLISH
X-ORIGINAL-URL:https://tusmarialinden.de
X-WR-CALDESC:Veranstaltungen für TuS Marialinden 1946 e.V.
REFRESH-INTERVAL;VALUE=DURATION:PT1H
X-Robots-Tag:noindex
X-PUBLISHED-TTL:PT1H
BEGIN:VTIMEZONE
TZID:UTC
BEGIN:STANDARD
TZOFFSETFROM:+0000
TZOFFSETTO:+0000
TZNAME:UTC
DTSTART:20190101T000000
END:STANDARD
END:VTIMEZONE
BEGIN:VEVENT
DTSTART;TZID=UTC:20190530T110000
DTEND;TZID=UTC:20190530T200000
DTSTAMP:20260422T144157
CREATED:20190427T171113Z
LAST-MODIFIED:20190427T171113Z
UID:3179-1559214000-1559246400@tusmarialinden.de
SUMMARY:Feiert Vatertag beim TuS Marialinden!
DESCRIPTION:Donnerstag\, 30. Mai 2019 ab 11 Uhr / Live-Musik / buntes Rahmenprogramm / Sportplatzeröffnung  \nDieses Jahr wird Vatertag ganz groß gefeiert beim TuS Marialinden! Der Förderverein TuS Marialinden 1946 Jugendfußball e.V. lädt alle Väter\, Freund*innen sowie Familien ein\, am Donnerstag\, 30. Mai 2019 auf dem Sportplatz in Marialinden zu feiern. Ab 11 Uhr geht die Party los. Dann wird auch der Sportplatz endlich offiziell eröffnet. \nAlso der Supertipp für alle Vatertagstrupps: Schnappt euch eure Bollerwagen und baut den Sportplatz Marialinden in eure Tour als Zwischenstopp oder als Ziel ein! \nFür leckeres Essen und kalte Getränke ist gesorgt. Ein großes Highlight ist die Live-Musik: City Rhythm mit Christoph Heftrig. Außerdem gibt es ein buntes Rahmenprogramm mit Torwand\, Hüpfburg\, Spendenfahrrad\, Biathlon-Stand und Glücksrad. \nDie Veranstaltung wird freundlich unterstützt durch O-Saft und die Zurich Versicherung.
URL:https://tusmarialinden.de/termine/feiert-vatertag-beim-tus-marialinden/
LOCATION:TUS Sportplatz\, Oderscheider Feld 20\, Overath\, NRW\, 51491\, Deutschland
END:VEVENT
END:VCALENDAR