BEGIN:VCALENDAR
VERSION:2.0
PRODID:-//TuS Marialinden 1946 e.V. - ECPv6.9.0//NONSGML v1.0//EN
CALSCALE:GREGORIAN
METHOD:PUBLISH
X-WR-CALNAME:TuS Marialinden 1946 e.V.
X-ORIGINAL-URL:https://tusmarialinden.de
X-WR-CALDESC:Veranstaltungen für TuS Marialinden 1946 e.V.
REFRESH-INTERVAL;VALUE=DURATION:PT1H
X-Robots-Tag:noindex
X-PUBLISHED-TTL:PT1H
BEGIN:VTIMEZONE
TZID:UTC
BEGIN:STANDARD
TZOFFSETFROM:+0000
TZOFFSETTO:+0000
TZNAME:UTC
DTSTART:20180101T000000
END:STANDARD
END:VTIMEZONE
BEGIN:VEVENT
DTSTART;TZID=UTC:20180303T103000
DTEND;TZID=UTC:20180303T120000
DTSTAMP:20260423T131807
CREATED:20180129T054611Z
LAST-MODIFIED:20180129T054611Z
UID:2715-1520073000-1520078400@tusmarialinden.de
SUMMARY:Fussball E U10: Freundschaftsspiel gegen Homburg-Nümbrecht
DESCRIPTION:Zwei Mannschaften\, beide Platzhälften
URL:https://tusmarialinden.de/termine/fussball-e-u10-freundschaftsspiel-gegen-homburg-nuembrecht/
LOCATION:TUS Sportplatz\, Oderscheider Feld 20\, Overath\, NRW\, 51491\, Deutschland
CATEGORIES:Fussball Jugend,Heimspiel
END:VEVENT
BEGIN:VEVENT
DTSTART;TZID=UTC:20180304T100000
DTEND;TZID=UTC:20180304T130000
DTSTAMP:20260423T131807
CREATED:20171002T102403Z
LAST-MODIFIED:20171002T102403Z
UID:2518-1520157600-1520168400@tusmarialinden.de
SUMMARY:TTVg Phönix Biesfeld IV - TuS Marialinden I
DESCRIPTION:
URL:https://tusmarialinden.de/termine/ttvg-phoenix-biesfeld-iv-tus-marialinden-i/
LOCATION:Turnhalle Grundschule Biesfeld Friedhofsstraße\, 51515 Kürten-Biesfeld\, Friedhofsstraße\, Kürten\, NRW\, 51515\, Deutschland
CATEGORIES:Tischtennis,TuS Marialinden I
END:VEVENT
BEGIN:VEVENT
DTSTART;TZID=UTC:20180310T183000
DTEND;TZID=UTC:20180310T213000
DTSTAMP:20260423T131807
CREATED:20171002T101523Z
LAST-MODIFIED:20171002T101523Z
UID:2520-1520706600-1520717400@tusmarialinden.de
SUMMARY:TuS Marialinden I - Heiligenhauser SV V
DESCRIPTION:
URL:https://tusmarialinden.de/termine/tus-marialinden-i-heiligenhauser-sv-v/
LOCATION:Sporthalle Marialinden Oderscheiderfeld 20\, 51491 Overath\, Oderscheiderfeld 20\, 51491\, NRW\, 51491\, Deutschland
CATEGORIES:Tischtennis,TuS Marialinden I
END:VEVENT
BEGIN:VEVENT
DTSTART;TZID=UTC:20180317T183000
DTEND;TZID=UTC:20180317T213000
DTSTAMP:20260423T131807
CREATED:20171002T102319Z
LAST-MODIFIED:20171002T102632Z
UID:2522-1521311400-1521322200@tusmarialinden.de
SUMMARY:TTC Bärbroich V - TuS Marialinden I
DESCRIPTION:
URL:https://tusmarialinden.de/termine/ttc-baerbroich-tus-marialinden-i/
LOCATION:Schulzentrum Herkenrath Dietrich-von-Dorendorp-Straße\, 51429 Bergisch Gladbach\, Dietrich-von-Dorendorp-Straße\, Bergisch Gladbach\, NRW\, 51429\, Deutschland
CATEGORIES:Tischtennis,TuS Marialinden I
END:VEVENT
BEGIN:VEVENT
DTSTART;TZID=UTC:20180324T183000
DTEND;TZID=UTC:20180324T213000
DTSTAMP:20260423T131807
CREATED:20171002T102228Z
LAST-MODIFIED:20171002T102228Z
UID:2524-1521916200-1521927000@tusmarialinden.de
SUMMARY:TuS Marialinden I - TV Ensen-Westhoven III
DESCRIPTION:
URL:https://tusmarialinden.de/termine/tus-marialinden-i-tv-ensen-westhoven-iii/
LOCATION:Sporthalle Marialinden Oderscheiderfeld 20\, 51491 Overath\, Oderscheiderfeld 20\, 51491\, NRW\, 51491\, Deutschland
CATEGORIES:Tischtennis,TuS Marialinden I
END:VEVENT
END:VCALENDAR