BEGIN:VCALENDAR
VERSION:2.0
PRODID:-//TuS Marialinden 1946 e.V. - ECPv6.9.0//NONSGML v1.0//EN
CALSCALE:GREGORIAN
METHOD:PUBLISH
X-ORIGINAL-URL:https://tusmarialinden.de
X-WR-CALDESC:Veranstaltungen für TuS Marialinden 1946 e.V.
REFRESH-INTERVAL;VALUE=DURATION:PT1H
X-Robots-Tag:noindex
X-PUBLISHED-TTL:PT1H
BEGIN:VTIMEZONE
TZID:UTC
BEGIN:STANDARD
TZOFFSETFROM:+0000
TZOFFSETTO:+0000
TZNAME:UTC
DTSTART:20180101T000000
END:STANDARD
END:VTIMEZONE
BEGIN:VEVENT
DTSTART;TZID=UTC:20180602T100000
DTEND;TZID=UTC:20180602T120000
DTSTAMP:20260423T082613
CREATED:20180410T181922Z
LAST-MODIFIED:20180410T181922Z
UID:2793-1527933600-1527940800@tusmarialinden.de
SUMMARY:Bambini: Bambinifestspiel Overath
DESCRIPTION:
URL:https://tusmarialinden.de/termine/bambini-bambinifestspiel-overath/
LOCATION:SSV Overath\, Cyriax\, Overath\, 51491\, Deutschland
CATEGORIES:Auswärtsspiel,Bambini,Fussball Jugend
END:VEVENT
BEGIN:VEVENT
DTSTART;VALUE=DATE:20180623
DTEND;VALUE=DATE:20180624
DTSTAMP:20260423T082613
CREATED:20180410T183458Z
LAST-MODIFIED:20180410T183458Z
UID:2797-1529712000-1529798399@tusmarialinden.de
SUMMARY:Farbe und Design Cup 2018
DESCRIPTION:
URL:https://tusmarialinden.de/termine/farbe-und-design-cup-2018/
LOCATION:TUS Sportplatz\, Oderscheider Feld 20\, Overath\, NRW\, 51491\, Deutschland
CATEGORIES:Fussball Freizeit,Heimspiel
END:VEVENT
END:VCALENDAR