BEGIN:VCALENDAR
VERSION:2.0
PRODID:-//TuS Marialinden 1946 e.V. - ECPv6.9.0//NONSGML v1.0//EN
CALSCALE:GREGORIAN
METHOD:PUBLISH
X-WR-CALNAME:TuS Marialinden 1946 e.V.
X-ORIGINAL-URL:https://tusmarialinden.de
X-WR-CALDESC:Veranstaltungen für TuS Marialinden 1946 e.V.
REFRESH-INTERVAL;VALUE=DURATION:PT1H
X-Robots-Tag:noindex
X-PUBLISHED-TTL:PT1H
BEGIN:VTIMEZONE
TZID:UTC
BEGIN:STANDARD
TZOFFSETFROM:+0000
TZOFFSETTO:+0000
TZNAME:UTC
DTSTART:20180101T000000
END:STANDARD
END:VTIMEZONE
BEGIN:VEVENT
DTSTART;TZID=UTC:20181007T100000
DTEND;TZID=UTC:20181007T130000
DTSTAMP:20260423T022126
CREATED:20180827T090332Z
LAST-MODIFIED:20180827T090332Z
UID:2877-1538906400-1538917200@tusmarialinden.de
SUMMARY:TT: SV GA Steinenbrück - TuS Marialinden I
DESCRIPTION:
URL:https://tusmarialinden.de/termine/tt-sv-ga-steinenbrueck-tus-marialinden-i/
LOCATION:Turnhalle Steinenbrück\, Talstr. 1\, 51491 Overt\, Talstraße 1\, Overath\, NRW\, 51491\, Deutschland
CATEGORIES:Tischtennis
END:VEVENT
BEGIN:VEVENT
DTSTART;TZID=UTC:20181012T200000
DTEND;TZID=UTC:20181012T230000
DTSTAMP:20260423T022126
CREATED:20180827T090651Z
LAST-MODIFIED:20181007T094007Z
UID:2880-1539374400-1539385200@tusmarialinden.de
SUMMARY:TT: Heiligenhauser SV IV - TuS Marialinden I
DESCRIPTION:
URL:https://tusmarialinden.de/termine/tt-tus-marialinden-i-heiligenhauser-sv-iv/
LOCATION:Sporthalle Marialinden Oderscheiderfeld 20\, 51491 Overath\, Oderscheiderfeld 20\, 51491\, NRW\, 51491\, Deutschland
CATEGORIES:Tischtennis
END:VEVENT
BEGIN:VEVENT
DTSTART;TZID=UTC:20181013T183000
DTEND;TZID=UTC:20181013T213000
DTSTAMP:20260423T022126
CREATED:20180827T084420Z
LAST-MODIFIED:20180827T084506Z
UID:2862-1539455400-1539466200@tusmarialinden.de
SUMMARY:TuS Marialinden II - Heiligenhauser SV V
DESCRIPTION:
URL:https://tusmarialinden.de/termine/tus-marialinden-ii-heiligenhauser-sv-v/
LOCATION:Sporthalle Marialinden Oderscheiderfeld 20\, 51491 Overath\, Oderscheiderfeld 20\, 51491\, NRW\, 51491\, Deutschland
CATEGORIES:Tischtennis
END:VEVENT
BEGIN:VEVENT
DTSTART;TZID=UTC:20181020T170000
DTEND;TZID=UTC:20181020T210000
DTSTAMP:20260423T022126
CREATED:20180930T134948Z
LAST-MODIFIED:20180930T135503Z
UID:3038-1540054800-1540069200@tusmarialinden.de
SUMMARY:VB: Heiligenhauser SV - TV Eitorf
DESCRIPTION:
URL:https://tusmarialinden.de/termine/vb-heiligenhauser-sv-tv-eitorf/
LOCATION:Sporthalle Marialinden Oderscheiderfeld 20\, 51491 Overath\, Oderscheiderfeld 20\, 51491\, NRW\, 51491\, Deutschland
CATEGORIES:Volleyball Damen
END:VEVENT
END:VCALENDAR