BEGIN:VCALENDAR
VERSION:2.0
PRODID:-//TuS Marialinden 1946 e.V. - ECPv6.9.0//NONSGML v1.0//EN
CALSCALE:GREGORIAN
METHOD:PUBLISH
X-ORIGINAL-URL:https://tusmarialinden.de
X-WR-CALDESC:Veranstaltungen für TuS Marialinden 1946 e.V.
REFRESH-INTERVAL;VALUE=DURATION:PT1H
X-Robots-Tag:noindex
X-PUBLISHED-TTL:PT1H
BEGIN:VTIMEZONE
TZID:UTC
BEGIN:STANDARD
TZOFFSETFROM:+0000
TZOFFSETTO:+0000
TZNAME:UTC
DTSTART:20180101T000000
END:STANDARD
END:VTIMEZONE
BEGIN:VEVENT
DTSTART;TZID=UTC:20181102T200000
DTEND;TZID=UTC:20181102T230000
DTSTAMP:20260423T040311
CREATED:20180827T090834Z
LAST-MODIFIED:20180827T090834Z
UID:2882-1541188800-1541199600@tusmarialinden.de
SUMMARY:TT: TTC Bensberg III - TuS Marialinden I
DESCRIPTION:
URL:https://tusmarialinden.de/termine/tt-ttc-bensberg-iii-tus-marialinden-i/
LOCATION:Johannes-Gutenberg-Realschule Kaule 19-21\, 51429 Bergisch Gladbach\, Kaule 19-21\, Bergisch Gladbach\, NRW\, 51429\, Deutschland
CATEGORIES:Tischtennis
END:VEVENT
BEGIN:VEVENT
DTSTART;TZID=UTC:20181103T160000
DTEND;TZID=UTC:20181103T200000
DTSTAMP:20260423T040311
CREATED:20180930T135349Z
LAST-MODIFIED:20180930T135839Z
UID:3042-1541260800-1541275200@tusmarialinden.de
SUMMARY:VB: Heiligenhauser SV - 1. FC Spich
DESCRIPTION:
URL:https://tusmarialinden.de/termine/vb-heiligenhauser-sv-1-fc-spich/
LOCATION:Sporthalle Marialinden Oderscheiderfeld 20\, 51491 Overath\, Oderscheiderfeld 20\, 51491\, NRW\, 51491\, Deutschland
CATEGORIES:Volleyball Damen
END:VEVENT
BEGIN:VEVENT
DTSTART;TZID=UTC:20181103T183000
DTEND;TZID=UTC:20181103T213000
DTSTAMP:20260423T040311
CREATED:20180827T091021Z
LAST-MODIFIED:20180827T091021Z
UID:2884-1541269800-1541280600@tusmarialinden.de
SUMMARY:TT: TTVg Phönix Biesfeld III - TuS Marialinden I
DESCRIPTION:
URL:https://tusmarialinden.de/termine/tt-ttvg-phoenix-biesfeld-iii-tus-marialinden-i/
LOCATION:Turnhalle Grundschule Biesfeld Friedhofsstraße\, 51515 Kürten-Biesfeld\, Friedhofsstraße\, Kürten\, NRW\, 51515\, Deutschland
CATEGORIES:Tischtennis
END:VEVENT
BEGIN:VEVENT
DTSTART;TZID=UTC:20181104T100000
DTEND;TZID=UTC:20181104T130000
DTSTAMP:20260423T040311
CREATED:20180827T085005Z
LAST-MODIFIED:20180827T085005Z
UID:2864-1541325600-1541336400@tusmarialinden.de
SUMMARY:TT: TV Refrath V - TuS Marialinden II
DESCRIPTION:
URL:https://tusmarialinden.de/termine/tt-tv-refrath-v-tus-marialinden-ii/
LOCATION:Grundschule in den Auen\, Schwerfelstraße 17b\, 51427 Bergisch Gladbach\, Schwerfelstraße 17b\, Bergisch Gladbach\, NRW\, 51427\, Deutschland
CATEGORIES:Tischtennis
END:VEVENT
BEGIN:VEVENT
DTSTART;TZID=UTC:20181110T183000
DTEND;TZID=UTC:20181110T213000
DTSTAMP:20260423T040311
CREATED:20180827T085304Z
LAST-MODIFIED:20180827T085304Z
UID:2867-1541874600-1541885400@tusmarialinden.de
SUMMARY:TT: TuS Marialinden II - TTC Bärbroich V
DESCRIPTION:
URL:https://tusmarialinden.de/termine/tt-tus-marialinden-ii-ttc-baerbroich-v/
LOCATION:Sporthalle Marialinden Oderscheiderfeld 20\, 51491 Overath\, Oderscheiderfeld 20\, 51491\, NRW\, 51491\, Deutschland
CATEGORIES:Tischtennis
END:VEVENT
BEGIN:VEVENT
DTSTART;TZID=UTC:20181110T183000
DTEND;TZID=UTC:20181110T213000
DTSTAMP:20260423T040311
CREATED:20180827T091140Z
LAST-MODIFIED:20180827T091140Z
UID:2886-1541874600-1541885400@tusmarialinden.de
SUMMARY:TT: TuS Marialinden I - TTVg Phönix Biesfeld IV
DESCRIPTION:
URL:https://tusmarialinden.de/termine/tt-tus-marialinden-i-ttvg-phoenix-biesfeld-iv/
LOCATION:Sporthalle Marialinden Oderscheiderfeld 20\, 51491 Overath\, Oderscheiderfeld 20\, 51491\, NRW\, 51491\, Deutschland
CATEGORIES:Tischtennis
END:VEVENT
BEGIN:VEVENT
DTSTART;TZID=UTC:20181113T193000
DTEND;TZID=UTC:20181113T223000
DTSTAMP:20260423T040311
CREATED:20180827T085443Z
LAST-MODIFIED:20180827T085443Z
UID:2869-1542137400-1542148200@tusmarialinden.de
SUMMARY:TT: TuS Schildgen - TuS Marialinden II
DESCRIPTION:
URL:https://tusmarialinden.de/termine/tt-tus-schildgen-tus-marialinden-ii/
LOCATION:Turnhalle Concordia-Schule Concordiaweg 20\, 51467 Bergisch Gladbach\, Concordiaweg 20\, Bergisch Gladbach\, NRW\, 51467\, Deutschland
CATEGORIES:Tischtennis
END:VEVENT
BEGIN:VEVENT
DTSTART;TZID=UTC:20181117T120000
DTEND;TZID=UTC:20181117T160000
DTSTAMP:20260423T040311
CREATED:20180930T140215Z
LAST-MODIFIED:20180930T140215Z
UID:3045-1542456000-1542470400@tusmarialinden.de
SUMMARY:VB: TuS Marialinden - TV Refrath
DESCRIPTION:
URL:https://tusmarialinden.de/termine/vb-tus-marialinden-tv-refrath/
LOCATION:Sporthalle Marialinden Oderscheiderfeld 20\, 51491 Overath\, Oderscheiderfeld 20\, 51491\, NRW\, 51491\, Deutschland
CATEGORIES:Volleyball Damen
END:VEVENT
BEGIN:VEVENT
DTSTART;TZID=UTC:20181117T183000
DTEND;TZID=UTC:20181117T213000
DTSTAMP:20260423T040311
CREATED:20180827T091359Z
LAST-MODIFIED:20180827T091359Z
UID:2888-1542479400-1542490200@tusmarialinden.de
SUMMARY:TT: SV Neubrück II - TuS Marialinden I
DESCRIPTION:
URL:https://tusmarialinden.de/termine/tt-sv-neubrueck-ii-tus-marialinden-i/
LOCATION:Hauptschule Neubrück\, Helene Weber Platz 1\, 51109 Köln\, Helene Weber Platz 1\, Köln\, NRW\, 51109\, Deutschland
CATEGORIES:Tischtennis
END:VEVENT
BEGIN:VEVENT
DTSTART;TZID=UTC:20181124T183000
DTEND;TZID=UTC:20181124T213000
DTSTAMP:20260423T040311
CREATED:20180827T085626Z
LAST-MODIFIED:20180827T085626Z
UID:2871-1543084200-1543095000@tusmarialinden.de
SUMMARY:TT: TuS Marialinden II - TuS Immekeppel II
DESCRIPTION:
URL:https://tusmarialinden.de/termine/tt-tus-marialinden-ii-tus-immekeppel-ii/
LOCATION:Sporthalle Marialinden Oderscheiderfeld 20\, 51491 Overath\, Oderscheiderfeld 20\, 51491\, NRW\, 51491\, Deutschland
CATEGORIES:Tischtennis
END:VEVENT
BEGIN:VEVENT
DTSTART;TZID=UTC:20181124T183000
DTEND;TZID=UTC:20181124T213000
DTSTAMP:20260423T040311
CREATED:20180827T091517Z
LAST-MODIFIED:20180827T091517Z
UID:2891-1543084200-1543095000@tusmarialinden.de
SUMMARY:TT: TuS Marialinden - SV Frielingsdorf II
DESCRIPTION:
URL:https://tusmarialinden.de/termine/tt-tus-marialinden-sv-frielingsdorf-ii/
LOCATION:Sporthalle Marialinden Oderscheiderfeld 20\, 51491 Overath\, Oderscheiderfeld 20\, 51491\, NRW\, 51491\, Deutschland
CATEGORIES:Tischtennis
END:VEVENT
BEGIN:VEVENT
DTSTART;TZID=UTC:20181129T193000
DTEND;TZID=UTC:20181129T223000
DTSTAMP:20260423T040311
CREATED:20180827T091711Z
LAST-MODIFIED:20180827T091711Z
UID:2893-1543519800-1543530600@tusmarialinden.de
SUMMARY:TT: DJK SSV Ommerborn Sand I - TuS Marialinden I
DESCRIPTION:
URL:https://tusmarialinden.de/termine/tt-djk-ssv-ommerborn-sand-i-tus-marialinden-i/
LOCATION:Gemeinschaftsgrundschule Hebborn Odenthaler Str. 197\, 51467 Bergisch Gladbach\, Odenthaler Str. 197\, Bergisch Gladbach\, NRW\, 51467\, Deutschland
CATEGORIES:Tischtennis
END:VEVENT
END:VCALENDAR