BEGIN:VCALENDAR
VERSION:2.0
PRODID:-//TuS Marialinden 1946 e.V. - ECPv6.9.0//NONSGML v1.0//EN
CALSCALE:GREGORIAN
METHOD:PUBLISH
X-ORIGINAL-URL:https://tusmarialinden.de
X-WR-CALDESC:Veranstaltungen für TuS Marialinden 1946 e.V.
REFRESH-INTERVAL;VALUE=DURATION:PT1H
X-Robots-Tag:noindex
X-PUBLISHED-TTL:PT1H
BEGIN:VTIMEZONE
TZID:UTC
BEGIN:STANDARD
TZOFFSETFROM:+0000
TZOFFSETTO:+0000
TZNAME:UTC
DTSTART:20190101T000000
END:STANDARD
END:VTIMEZONE
BEGIN:VEVENT
DTSTART;TZID=UTC:20190202T150000
DTEND;TZID=UTC:20190202T170000
DTSTAMP:20260422T194401
CREATED:20190123T191058Z
LAST-MODIFIED:20190123T191058Z
UID:3123-1549119600-1549126800@tusmarialinden.de
SUMMARY:VB: Heiligenhauser SV - TV Eitorf
DESCRIPTION:
URL:https://tusmarialinden.de/termine/vb-heiligenhauser-sv-tv-eitorf-2/
LOCATION:Sporthalle Marialinden Oderscheiderfeld 20\, 51491 Overath\, Oderscheiderfeld 20\, 51491\, NRW\, 51491\, Deutschland
CATEGORIES:Volleyball Damen
END:VEVENT
BEGIN:VEVENT
DTSTART;TZID=UTC:20190202T170000
DTEND;TZID=UTC:20190202T200000
DTSTAMP:20260422T194401
CREATED:20180930T141215Z
LAST-MODIFIED:20190123T191142Z
UID:3053-1549126800-1549137600@tusmarialinden.de
SUMMARY:VB: TuS Marialinden - 1. FC Spich
DESCRIPTION:
URL:https://tusmarialinden.de/termine/vb-tus-marialinden-1-fc-spich/
LOCATION:Sporthalle Marialinden Oderscheiderfeld 20\, 51491 Overath\, Oderscheiderfeld 20\, 51491\, NRW\, 51491\, Deutschland
CATEGORIES:Volleyball Damen
END:VEVENT
BEGIN:VEVENT
DTSTART;TZID=UTC:20190209T140000
DTEND;TZID=UTC:20190209T160000
DTSTAMP:20260422T194401
CREATED:20180930T141357Z
LAST-MODIFIED:20180930T141357Z
UID:3055-1549720800-1549728000@tusmarialinden.de
SUMMARY:VB: Heiligenhauser SV - FCJ Köln IV
DESCRIPTION:
URL:https://tusmarialinden.de/termine/vb-heiligenhauser-sv-fcj-koeln-iv/
LOCATION:Sporthalle Marialinden Oderscheiderfeld 20\, 51491 Overath\, Oderscheiderfeld 20\, 51491\, NRW\, 51491\, Deutschland
CATEGORIES:Volleyball Damen
END:VEVENT
BEGIN:VEVENT
DTSTART;TZID=UTC:20190217T120000
DTEND;TZID=UTC:20190217T180000
DTSTAMP:20260422T194401
CREATED:20190213T211603Z
LAST-MODIFIED:20190213T211603Z
UID:3131-1550404800-1550426400@tusmarialinden.de
SUMMARY:VB: Bezirkspokal
DESCRIPTION:
URL:https://tusmarialinden.de/termine/vb-bezirkspokal/
LOCATION:Sporthalle Marialinden Oderscheiderfeld 20\, 51491 Overath\, Oderscheiderfeld 20\, 51491\, NRW\, 51491\, Deutschland
CATEGORIES:Volleyball Damen
END:VEVENT
END:VCALENDAR