BEGIN:VCALENDAR
VERSION:2.0
PRODID:-//TuS Marialinden 1946 e.V. - ECPv6.9.0//NONSGML v1.0//EN
CALSCALE:GREGORIAN
METHOD:PUBLISH
X-ORIGINAL-URL:https://tusmarialinden.de
X-WR-CALDESC:Veranstaltungen für TuS Marialinden 1946 e.V.
REFRESH-INTERVAL;VALUE=DURATION:PT1H
X-Robots-Tag:noindex
X-PUBLISHED-TTL:PT1H
BEGIN:VTIMEZONE
TZID:UTC
BEGIN:STANDARD
TZOFFSETFROM:+0000
TZOFFSETTO:+0000
TZNAME:UTC
DTSTART:20190101T000000
END:STANDARD
END:VTIMEZONE
BEGIN:VEVENT
DTSTART;TZID=UTC:20190317T170000
DTEND;TZID=UTC:20190317T200000
DTSTAMP:20260422T175046
CREATED:20180930T141550Z
LAST-MODIFIED:20190123T190414Z
UID:3057-1552842000-1552852800@tusmarialinden.de
SUMMARY:VB: TuS Marialinden - Heiligenhauser SV
DESCRIPTION:
URL:https://tusmarialinden.de/termine/vb-tus-marialinden-heiligenhauser-sv/
LOCATION:Sporthalle Marialinden Oderscheiderfeld 20\, 51491 Overath\, Oderscheiderfeld 20\, 51491\, NRW\, 51491\, Deutschland
CATEGORIES:Volleyball Damen
END:VEVENT
BEGIN:VEVENT
DTSTART;TZID=UTC:20190323T140000
DTEND;TZID=UTC:20190323T180000
DTSTAMP:20260422T175046
CREATED:20180930T141750Z
LAST-MODIFIED:20180930T141750Z
UID:3059-1553349600-1553364000@tusmarialinden.de
SUMMARY:VB: Heiligenhauser SV - KT 43 Köln II
DESCRIPTION:
URL:https://tusmarialinden.de/termine/vb-heiligenhauser-sv-kt-43-koeln-ii/
LOCATION:Sporthalle Marialinden Oderscheiderfeld 20\, 51491 Overath\, Oderscheiderfeld 20\, 51491\, NRW\, 51491\, Deutschland
CATEGORIES:Volleyball Damen
END:VEVENT
END:VCALENDAR